View In:
ArcMap
ArcGIS Explorer
ArcGIS JavaScript
Google Earth
ArcGIS.com Map
View Footprint In:
Google Earth
Service Description:
Map Name: Town of Amherst
Legend
All Layers and Tables
Layers:
Tables:
Description:
Copyright Text:
Spatial Reference: 2249
Single Fused Map Cache: true
Tile Info:
- Height: 256
- Width: 256
- DPI: 96
- Levels of Detail: (# Levels: 15)
-
Level ID: 0
[Start Tile,
End Tile]
Resolution: 434.027777777778
Scale: 500000
-
Level ID: 1
[Start Tile,
End Tile]
Resolution: 217.013888888889
Scale: 250000
-
Level ID: 2
[Start Tile,
End Tile]
Resolution: 108.506944444444
Scale: 125000
-
Level ID: 3
[Start Tile,
End Tile]
Resolution: 55.5555555555556
Scale: 64000
-
Level ID: 4
[Start Tile,
End Tile]
Resolution: 27.7777777777778
Scale: 32000
-
Level ID: 5
[Start Tile,
End Tile]
Resolution: 13.8888888888889
Scale: 16000
-
Level ID: 6
[Start Tile,
End Tile]
Resolution: 10.4166666666667
Scale: 12000
-
Level ID: 7
[Start Tile,
End Tile]
Resolution: 6.94444444444444
Scale: 8000
-
Level ID: 8
[Start Tile,
End Tile]
Resolution: 5.20833333333333
Scale: 6000
-
Level ID: 9
[Start Tile,
End Tile]
Resolution: 3.47222222222222
Scale: 4000
-
Level ID: 10
[Start Tile,
End Tile]
Resolution: 2.77777777777778
Scale: 3200
-
Level ID: 11
[Start Tile,
End Tile]
Resolution: 2.08333333333333
Scale: 2400
-
Level ID: 12
[Start Tile,
End Tile]
Resolution: 1.38888888888889
Scale: 1600
-
Level ID: 13
[Start Tile,
End Tile]
Resolution: 1.04166666666667
Scale: 1200
-
Level ID: 14
[Start Tile,
End Tile]
Resolution: 0.520833333333333
Scale: 600
- Format: PNG8
- Compression Quality: 0
-
Origin:
X: -119851500
Y: 146517200
- Spatial Reference: 2249
Initial Extent:
XMin: 342253.860736264
YMin: 2934216.1625
XMax: 426529.483263736
YMax: 2987007.0875
Spatial Reference: 2249
Full Extent:
XMin: -12893741.9944847
YMin: -37445.4076815101
XMax: 441039.319297223
YMax: 6375986.34923011
Spatial Reference: 2249
Units: esriFeet
Supported Image Format Types: PNG32,PNG24,PNG,JPG,DIB,TIFF,EMF,PS,PDF,GIF,SVG,SVGZ,BMP
Document Info:
- Title:
- Author:
- Comments:
- Subject:
- Category:
- Keywords:
- AntialiasingMode: None
- TextAntialiasingMode: Force
Supported Interfaces:
REST
SOAP
Supported Operations:
Export Map
Identify
Find
Generate KML